BEGIN:VCALENDAR
VERSION:2.0
PRODID:-//ChamberMaster//Event Calendar 2.0//EN
METHOD:PUBLISH
X-PUBLISHED-TTL:P1H
REFRESH-INTERVAL:P1H
CALSCALE:GREGORIAN
BEGIN:VTIMEZONE
TZID:America/New_York
BEGIN:DAYLIGHT
RRULE:FREQ=YEARLY;BYMONTH=3;BYDAY=2SU
DTSTART:20070101T000000
TZOFFSETFROM:-0500
TZOFFSETTO:-0400
TZNAME:Eastern Daylight Time
END:DAYLIGHT
BEGIN:STANDARD
RRULE:FREQ=YEARLY;BYMONTH=11;BYDAY=1SU
DTSTART:20070101T000000
TZOFFSETFROM:-0400
TZOFFSETTO:-0500
TZNAME:Eastern Standard Time
END:STANDARD
END:VTIMEZONE
BEGIN:VEVENT
DTSTART;TZID=America/New_York:20260627T140000
DTEND;TZID=America/New_York:20260628T220000
X-MICROSOFT-CDO-ALLDAYEVENT:FALSE
SUMMARY:Monty Python's SPAMALOT
DESCRIPTION:SPAMALOT\, which first galloped onto Broadway in 2005\, features a book & lyrics by Eric Idle and music by John Du Prez and Eric Idle. The original Broadway production was nominated for fourteen Tony  Awards and won three\, including Best Musical. The musical comedy\, lovingly ripped off from the film classic Monty Python and the Holy Grail\, has everything that makes a great knight at the theatre\, from flying cows to killer rabbits\, British royalty to French taunters\, dancing girls\, rubbery shrubbery\, and of course\, the Lady of the Lake. SPAMALOT features well-known song titles such as "Always Look on the Bright Side of Life\," "The Song That Goes Like This\," "Find Your Grail" and more that have become beloved classics in the musical theatre canon. Peter Marks of The Washington Post exclaims\, "It's UNFAIR to make me laugh this much! SPAMALOT is a tightly packed clown car speeding to musical theater nirvana!" Close Captioning will be available for all performances of Spamalot. The GalaPro app enhances the audience experience by delivering individual closed captioning and audio description to your own mobile device. All content is provided in real time. You can download GalaPro through the APP store on your phone. MULTIPLE DATES: Saturday\, June 27\, 2026 2:00PM\, Saturday\, June 27\, 2026 7:30PM\, Sunday\, June 28\, 2026 1:00PM\, Sunday\, June 28\, 2026 6:30PM
X-ALT-DESC;FMTTYPE=text/html:<!DOCTYPE html><html><head><title></title></head><body aria-disabled="false"><p>SPAMALOT\, which first galloped onto Broadway in 2005\, features a book &amp\; lyrics by Eric Idle and music by John Du Prez and Eric Idle. The original Broadway production was nominated for fourteen Tony&reg\; Awards and won three\, including Best Musical. The musical comedy\, lovingly ripped off from the film classic Monty Python and the Holy Grail\, has everything that makes a great knight at the theatre\, from flying cows to killer rabbits\, British royalty to French taunters\, dancing girls\, rubbery shrubbery\, and of course\, the Lady of the Lake. SPAMALOT features well-known song titles such as &ldquo\;Always Look on the Bright Side of Life\,&rdquo\; &ldquo\;The Song That Goes Like This\,&rdquo\; &ldquo\;Find Your Grail&rdquo\; and more that have become beloved classics in the musical theatre canon. Peter Marks of The Washington Post exclaims\, &quot\;It&#39\;s UNFAIR to make me laugh this much! SPAMALOT is a tightly packed clown car speeding to musical theater nirvana!&rdquo\; Close Captioning will be available for all performances of Spamalot. The GalaPro app enhances the audience experience by delivering individual closed captioning and audio description to your own mobile device. All content is provided in real time. You can download GalaPro through the APP store on your phone. MULTIPLE DATES: Saturday\, June 27\, 2026 2:00PM\, Saturday\, June 27\, 2026 7:30PM\, Sunday\, June 28\, 2026 1:00PM\, Sunday\, June 28\, 2026 6:30PM</p></body></html>
LOCATION:15 Livingston Ave New Brunswick NJ 08901
UID:e.3725.1449374
SEQUENCE:3
DTSTAMP:20260423T000959Z
URL:https://members.scbp.org/member-hosted-events/Details/monty-python-s-spamalot-1716818?sourceTypeId=Hub
END:VEVENT
END:VCALENDAR
