BEGIN:VCALENDAR
VERSION:2.0
PRODID:-//ChamberMaster//Event Calendar 2.0//EN
METHOD:PUBLISH
X-PUBLISHED-TTL:P1H
REFRESH-INTERVAL:P1H
CALSCALE:GREGORIAN
BEGIN:VTIMEZONE
TZID:America/New_York
BEGIN:DAYLIGHT
RRULE:FREQ=YEARLY;BYMONTH=3;BYDAY=2SU
DTSTART:20070101T000000
TZOFFSETFROM:-0500
TZOFFSETTO:-0400
TZNAME:Eastern Daylight Time
END:DAYLIGHT
BEGIN:STANDARD
RRULE:FREQ=YEARLY;BYMONTH=11;BYDAY=1SU
DTSTART:20070101T000000
TZOFFSETFROM:-0400
TZOFFSETTO:-0500
TZNAME:Eastern Standard Time
END:STANDARD
END:VTIMEZONE
BEGIN:VEVENT
DTSTART;TZID=America/New_York:20260507T090000
DTEND;TZID=America/New_York:20260507T103000
X-MICROSOFT-CDO-ALLDAYEVENT:FALSE
SUMMARY:New Member Breakfast
DESCRIPTION:Whether you're a new member or exploring SCBP for the first time\, this session will walk you through the different benefits available to you as part of the Somerset County Business Partnership. From networking programs and marketing opportunities to our business directory and podcast studio\, you'll leave with a clear understanding of how to plug in and get real value from your membership!
X-ALT-DESC;FMTTYPE=text/html:<!DOCTYPE html><html><head><title></title></head><body aria-disabled="false"><p>Whether you&rsquo\;re a new member or exploring SCBP for the first time\, this session will walk you through the different benefits available to you as part of the Somerset County Business Partnership. From networking programs and marketing opportunities to our business directory and podcast studio\, you&rsquo\;ll leave with a clear understanding of how to plug in and get real value from your membership!</p></body></html>
LOCATION:50 Division St. Suite 400 Somerville NJ 08876
UID:e.3725.1423572
SEQUENCE:3
DTSTAMP:20260422T102912Z
URL:https://members.scbp.org/member-hosted-events/Details/new-member-breakfast-1683185?sourceTypeId=Hub
END:VEVENT
END:VCALENDAR
